BEGIN:VCALENDAR
VERSION:2.0
PRODID:-//Rawhide Western Town - ECPv6.15.20//NONSGML v1.0//EN
CALSCALE:GREGORIAN
METHOD:PUBLISH
X-WR-CALNAME:Rawhide Western Town
X-ORIGINAL-URL:https://rawhide.com
X-WR-CALDESC:Events for Rawhide Western Town
REFRESH-INTERVAL;VALUE=DURATION:PT1H
X-Robots-Tag:noindex
X-PUBLISHED-TTL:PT1H
BEGIN:VTIMEZONE
TZID:America/Phoenix
BEGIN:STANDARD
TZOFFSETFROM:-0700
TZOFFSETTO:-0700
TZNAME:MST
DTSTART:20230101T000000
END:STANDARD
END:VTIMEZONE
BEGIN:VEVENT
DTSTART;VALUE=DATE:20240629
DTEND;VALUE=DATE:20240630
DTSTAMP:20260421T074217
CREATED:20240523T183428Z
LAST-MODIFIED:20240523T191226Z
UID:10000024-1719619200-1719705599@rawhide.com
SUMMARY:ILLENIUM - RETURN TO RAWHIDE
DESCRIPTION:ILLENIUM returns to Arizona for his largest headline in the state to date at our long-awaited return to Rawhide Event Center on Saturday\, June 29\, 2024!
URL:https://rawhide.com/event/illenium-return-to-rawhide/
LOCATION:Rawhide Event Center\, 5244 South 48th Street\, Chandler\, AZ\, 85226\, United States
CATEGORIES:Special Event
ATTACH;FMTTYPE=image/webp:https://rawhide.com/wp-content/uploads/2024/05/1716318074138-4x5-240629-Illenium_Presale-scaled.webp
END:VEVENT
END:VCALENDAR