BEGIN:VCALENDAR
VERSION:2.0
PRODID:-//Rawhide Western Town - ECPv6.15.20//NONSGML v1.0//EN
CALSCALE:GREGORIAN
METHOD:PUBLISH
X-WR-CALNAME:Rawhide Western Town
X-ORIGINAL-URL:https://rawhide.com
X-WR-CALDESC:Events for Rawhide Western Town
REFRESH-INTERVAL;VALUE=DURATION:PT1H
X-Robots-Tag:noindex
X-PUBLISHED-TTL:PT1H
BEGIN:VTIMEZONE
TZID:America/Phoenix
BEGIN:STANDARD
TZOFFSETFROM:-0700
TZOFFSETTO:-0700
TZNAME:MST
DTSTART:20230101T000000
END:STANDARD
END:VTIMEZONE
BEGIN:VEVENT
DTSTART;TZID=America/Phoenix:20241109T170000
DTEND;TZID=America/Phoenix:20241109T210000
DTSTAMP:20260421T061115
CREATED:20241018T234307Z
LAST-MODIFIED:20250304T200357Z
UID:10000068-1731171600-1731186000@rawhide.com
SUMMARY:8 Second Saturday Rodeo Series
DESCRIPTION:Welcome to the Buck-N Rodeo Grounds’ 8 Second Saturday Rodeo series! This thrilling showdeo is jam packed with mutton bustin’\, calf riding\, steer riding\, and bull riding\, as well as family-friendly yard games\, inflatables\, food trucks\, bars\, giveaways\, live music\, and so much more! \n  \nNov 9\, 2024 – May 10\, 2025 at Buck-N Rodeo Grounds at Rawhide\, Chandler\, AZ \nDoors open: 5pm \nRodeo starts: 6pm – 8pm \nConcert starts: 8pm-9pm \nEnjoy live music performances by local country bands every month! \n\nMar. 8 – Chauncey Jones\n\n\nApr. 12 – Bobby Joe Bell\n\n\nMay 10 – Lacey Rashea & the Young Guns\n\nAround the event: \n\nMC/DJ Entertainment\n\n\nFun Inflatables\n\n\nYard Games\n\n\nGiveaways\n\n\nDesserts\n\n\nFull Bars\n\nhttps://tixr.com/groups/wildhorsepass/8second \nKnow someone who wants to compete in the rodeo? Please text RS RODEO @ 480-818-9635
URL:https://rawhide.com/event/8-second-saturday-rodeo-series/2024-11-09/
LOCATION:Buck – N- Rodeo Grounds\, 5244 S 48th Street\, Chandler\, AZ\, 85226\, United States
CATEGORIES:Competition,Concert
ATTACH;FMTTYPE=image/webp:https://rawhide.com/wp-content/uploads/2024/10/8seclogo.webp
END:VEVENT
BEGIN:VEVENT
DTSTART;TZID=America/Phoenix:20240830T000000
DTEND;TZID=America/Phoenix:20240830T000000
DTSTAMP:20260421T061115
CREATED:20240717T144247Z
LAST-MODIFIED:20240723T180832Z
UID:10000026-1724976000-1724976000@rawhide.com
SUMMARY:John Summit Takes On Rawhide August 30th
DESCRIPTION:Find comfort in chaos with John Summit at Rawhide on August 30 Tickets are on sale now and they are selling extremely fast! Lock yours in while you can https://johnsummit.lnk.to/arizona
URL:https://rawhide.com/event/john-summit-takes-on-rawhide-august-30th/
LOCATION:Rawhide Event Center\, 5244 South 48th Street\, Chandler\, AZ\, 85226\, United States
CATEGORIES:Concert
ATTACH;FMTTYPE=image/webp:https://rawhide.com/wp-content/uploads/2024/07/20240715-7fd966b66f47_640.webp
END:VEVENT
END:VCALENDAR