BEGIN:VCALENDAR
VERSION:2.0
PRODID:-//Rawhide Western Town - ECPv6.15.20//NONSGML v1.0//EN
CALSCALE:GREGORIAN
METHOD:PUBLISH
X-WR-CALNAME:Rawhide Western Town
X-ORIGINAL-URL:https://rawhide.com
X-WR-CALDESC:Events for Rawhide Western Town
REFRESH-INTERVAL;VALUE=DURATION:PT1H
X-Robots-Tag:noindex
X-PUBLISHED-TTL:PT1H
BEGIN:VTIMEZONE
TZID:America/Phoenix
BEGIN:STANDARD
TZOFFSETFROM:-0700
TZOFFSETTO:-0700
TZNAME:MST
DTSTART:20240101T000000
END:STANDARD
END:VTIMEZONE
BEGIN:VEVENT
DTSTART;TZID=America/Phoenix:20251108T140000
DTEND;TZID=America/Phoenix:20251108T230000
DTSTAMP:20260422T151342
CREATED:20250618T200213Z
LAST-MODIFIED:20250909T222814Z
UID:10000101-1762610400-1762642800@rawhide.com
SUMMARY:BELICOFEST 2025 ( Day 1 )
DESCRIPTION:Get ready for an unforgettable weekend as BELICOFEST takes over the Wild Horse Pass Festival Grounds for two incredible days! \nFeaturing a Star-Studded Lineup Including: \n\nXavi\nNeton Vega\nClave Especial\nLos Tucanes de Tijuana\nVictor Mendivil\nYeri Mua\nAnd MORE!\n\nTickets & VIP Packages On Sale Now! \nSecure your spot at BELICOFEST 2025! General Admission (GA) and exclusive VIP packages are available\, offering enhanced experiences and amenities. Don’t miss out – tickets are selling fast! \nWild Horse Pass Festival Grounds\n19593 S 48th St\, Chandler\, AZ 85226 \nFor any questions regarding BELICOFEST\, contact email: info@belicofest.com
URL:https://rawhide.com/event/belicofest-2025/
LOCATION:Wild Horse Pass Festival Grounds\, 19593 S. 48th St\, Chandler\, AZ\, 85226\, United States
CATEGORIES:Concert,Festival
ATTACH;FMTTYPE=image/jpeg:https://rawhide.com/wp-content/uploads/2025/06/Belico25_FullLineUp1_1x1-1.jpg
END:VEVENT
BEGIN:VEVENT
DTSTART;TZID=America/Phoenix:20251109T140000
DTEND;TZID=America/Phoenix:20251109T230000
DTSTAMP:20260422T151342
CREATED:20250618T200251Z
LAST-MODIFIED:20250909T223008Z
UID:10000102-1762696800-1762729200@rawhide.com
SUMMARY:BELICOFEST 2025 ( Day 2 )
DESCRIPTION:Get ready for an unforgettable weekend as BELICOFEST takes over the Wild Horse Pass Festival Grounds for two incredible days! \nFeaturing a Star-Studded Lineup Including: \n\nXavi\nNeton Vega\nClave Especial\nLos Tucanes de Tijuana\nVictor Mendivil\nYeri Mua\nAnd MORE!\n\nTickets & VIP Packages On Sale Now! \nSecure your spot at BELICOFEST 2025! General Admission (GA) and exclusive VIP packages are available\, offering enhanced experiences and amenities. Don’t miss out – tickets are selling fast! \nWild Horse Pass Festival Grounds\n19593 S 48th St\, Chandler\, AZ 85226 \nFor any questions regarding BELICOFEST\, contact email: info@belicofest.com
URL:https://rawhide.com/event/belicofest-2025-day-2/
LOCATION:Wild Horse Pass Festival Grounds\, 19593 S. 48th St\, Chandler\, AZ\, 85226\, United States
CATEGORIES:Concert,Festival
ATTACH;FMTTYPE=image/jpeg:https://rawhide.com/wp-content/uploads/2025/06/Belico25_FullLineUp1_1x1-1.jpg
END:VEVENT
BEGIN:VEVENT
DTSTART;TZID=America/Phoenix:20251206T120000
DTEND;TZID=America/Phoenix:20251206T233000
DTSTAMP:20260422T151342
CREATED:20250818T192030Z
LAST-MODIFIED:20250818T192030Z
UID:10000114-1765022400-1765063800@rawhide.com
SUMMARY:PUNK ROCK CHRISTMAS
DESCRIPTION:​Get ready to deck the halls with power chords and circle pits–the debut Punk Rock Christmas festival\, presented by Punk In The Park\, is set for Saturday\, December 6 at Wild Horse Pass Festival Grounds in Chandler\, Arizona\, just outside Phoenix. \nTickets On Sale Wednesday\, August 20 At 10:00 AM PT \n– General Admission Tickets Start At: $49.99 + fees\n– VIP Tickets Start At: $129.99 + fees \nAll tickets provide access to music performances and the option for craft beer tasting as add-on purchase for 21+. \nVIP Tickets Include Access To All GA Areas PLUS: \n– Commemorative VIP laminate\n– Dedicated festival VIP entrance lanes\n– Dedicated VIP main stage viewing area\n– Access to VIP lounge with seating\n– Upgraded restrooms\n– Dedicated food and VIP bars \nThe Tasting Pass includes beer samples\nThe pass must be accompanied by a General Admission or VIP ticket.\nNo one under the age of 21 will be permitted to sample. \nFood will also be available for purchase from local food trucks and vendors in the General Admission and VIP areas\, with vegan options included.
URL:https://rawhide.com/event/punk-rock-christmas/
LOCATION:Wild Horse Pass Festival Grounds\, 19593 S. 48th St\, Chandler\, AZ\, 85226\, United States
CATEGORIES:Concert,Special Event
ATTACH;FMTTYPE=image/jpeg:https://rawhide.com/wp-content/uploads/2025/08/SQUARE.jpg
END:VEVENT
BEGIN:VEVENT
DTSTART;TZID=America/Phoenix:20251213T220000
DTEND;TZID=America/Phoenix:20251214T020000
DTSTAMP:20260422T151342
CREATED:20250908T154722Z
LAST-MODIFIED:20250908T155014Z
UID:10000353-1765663200-1765677600@rawhide.com
SUMMARY:Chris Lake: [CHEMISTRY] Album Tour
DESCRIPTION:Body Language\, Relentless Beats & RBDeep presents Chris Lake on Saturday\, December 13\, 2025 at Rawhide Event Center in Chandler\, AZ. This show is 18+. \nAges 18+\nDoors 9:00 PM \nAll items are subject to the discretion of event security. \nThe following is not allowed into the venue: \nNO Illegal substances or drug paraphernalia \nNO Cannabis \nNO Pets \nNO Massagers or pacifiers \nNO Poi \nNO Laser pens or pointers \nNO Eyedrops \nNO Glass\, cans\, cups\, or coolers \nNO Markers\, pens\, or spray paint \nNO Large chains\, spiked jewelry\, or spiked accessories \nNO Stickers or flyers \nNO Tents\, large umbrellas\, or chairs \nNO Wind chairs/sofas \nNO Large purses or bags (over 15” X 15” X 5” inches) \nNO Open cigarettes\, lipstick\, chapstick\, tampons \nNO Outside food\, beverage\, or alcohol \nNO Professional cameras (SLR or detachable lenses) \nNO Video or audio recording equipment \nNO Knives\, firearms\, pepper spray\, fireworks\, or weapons of any kind \nNO Toy weapons or real weapons of any kind \nNO Sticks\, staff\, swords\, sabers\, whips\, or scepters including extendable items \nNO Open sunscreen \nNO Balloons\, balls\, frisbees\, or any other projectile \nNO Native American headdresses \nNO Festival totems \nNO CROWD SURFING OR RAIL BREAKING. PATRONS PARTICIPATING IN EITHER WILL BE EJECTED. \nThe following is allowed into the venue: \nOK (2) factory-sealed water bottles of ANY SIZE \nOK Clear empty plastic water bottles of ANY SIZE \nOK Clear (transparent) bags – max size 15” X 15”x 5“ \nOK Clear (transparent) backpacks – max size 15” X 15”x 5“ \nOK Clear (transparent) fanny packs – max size 15” X 15”x 5“ \nOK Empty non-transparent Camelbaks with no more than 2 pockets – max size 15” X 15”x 5“ \nOK Small clutch up to 5” X 7” X 2” in size \nOK Non-Professional Still Cameras including Go Pros (GoPros may NOT be attached to a monopod or extendable pole) \nOK Lighters \nOK Sealed: cigarette packages\, tampons\, packs of gum\, chapstick/lip gloss \nOK Glowing/illuminated costumes or jewelry (to be searched upon entry) \nOK Sunglasses and hats \nOK Sealed liquid sunscreen and cosmetic products \nOK Disposable E-cigs\, nicotine vaporizer pens\, excluding those with refillable chambers containing visible liquid \nOK Guide dogs for people with disabilities and other service animals \nCLEAR BAG POLICY: \nIn an effort to enhance fan safety\, and to mirror many arenas and venues around the county\, we have implemented a clear bag policy for all large attendee events. \nWe define a clear bag as a fully clear or colored clear plastic\, vinyl\, or mesh bag. One-gallon clear plastic freezer bags will be considered an acceptable clear bag. The maximum bag size that will be allowed is 15” X 15”x 5“. In addition to a clear bag\, guests may bring in one small clutch up to 5” X 7”x 2” in size. \n 
URL:https://rawhide.com/event/chris-lake-chemistry-album-tour/
LOCATION:Rawhide Event Center\, 5244 South 48th Street\, Chandler\, AZ\, 85226\, United States
CATEGORIES:Concert
ATTACH;FMTTYPE=image/jpeg:https://rawhide.com/wp-content/uploads/2025/09/RB-CL-AZ-NEW_1080x1080.jpg
END:VEVENT
END:VCALENDAR