BEGIN:VCALENDAR
VERSION:2.0
PRODID:-//Rawhide Western Town - ECPv6.15.20//NONSGML v1.0//EN
CALSCALE:GREGORIAN
METHOD:PUBLISH
X-WR-CALNAME:Rawhide Western Town
X-ORIGINAL-URL:https://rawhide.com
X-WR-CALDESC:Events for Rawhide Western Town
REFRESH-INTERVAL;VALUE=DURATION:PT1H
X-Robots-Tag:noindex
X-PUBLISHED-TTL:PT1H
BEGIN:VTIMEZONE
TZID:America/Phoenix
BEGIN:STANDARD
TZOFFSETFROM:-0700
TZOFFSETTO:-0700
TZNAME:MST
DTSTART:20240101T000000
END:STANDARD
END:VTIMEZONE
BEGIN:VEVENT
DTSTART;TZID=America/Phoenix:20251004T200000
DTEND;TZID=America/Phoenix:20251005T020000
DTSTAMP:20260421T125505
CREATED:20250922T182831Z
LAST-MODIFIED:20250922T183041Z
UID:10000378-1759608000-1759629600@rawhide.com
SUMMARY:Aftershock & Relentless Beats presents Svdden Death VOYD | Forsaken Sands
DESCRIPTION:Aftershock & Relentless Beats presents Svdden Death VOYD | Forsaken Sands on Saturday\, October 4\, 2025 at Wild Horse Pass Festival Grounds in Chandler\, AZ. This show is 18+. \nDoors 8:00PM | Show 9:00PM – 2:00AM \nThis event is 18+ \nAll items are subject to the discretion of event security. \nThe following is not allowed into the venue: \nNO Illegal substances or drug paraphernalia \nNO Cannabis \nNO Pets \nNO Massagers or pacifiers \nNO Poi \nNO Laser pens or pointers \nNO Eyedrops \nNO Glass\, cans\, cups\, or coolers \nNO Markers\, pens\, or spray paint \nNO Large chains\, spiked jewelry\, or spiked accessories \nNO Stickers or flyers \nNO Tents\, large umbrellas\, or chairs \nNO Wind chairs/sofas \nNO Large purses or bags (over 15” X 15” X 5” inches) \nNO Open cigarettes\, lipstick\, chapstick\, tampons \nNO Outside food\, beverage\, or alcohol \nNO Professional cameras (SLR or detachable lenses) \nNO Video or audio recording equipment \nNO Knives\, firearms\, pepper spray\, fireworks\, or weapons of any kind \nNO Toy weapons or real weapons of any kind \nNO Sticks\, staff\, swords\, sabers\, whips\, or scepters including extendable items \nNO Open sunscreen \nNO Balloons\, balls\, frisbees\, or any other projectile \nNO Native American headdresses \nNO Festival totems \nNO CROWD SURFING OR RAIL BREAKING. PATRONS PARTICIPATING IN EITHER WILL BE EJECTED. \nThe following is allowed into the venue: \nOK (2) factory-sealed water bottles of ANY SIZE \nOK Clear empty plastic water bottles of ANY SIZE \nOK Clear (transparent) bags – max size 15” X 15”x 5“ \nOK Clear (transparent) backpacks – max size 15” X 15”x 5“ \nOK Clear (transparent) fanny packs – max size 15” X 15”x 5“ \nOK Empty non-transparent Camelbaks with no more than 2 pockets – max size 15” X 15”x 5“ \nOK Small clutch up to 5” X 7” X 2” in size \nOK Non-Professional Still Cameras including Go Pros (GoPros may NOT be attached to a monopod or extendable pole) \nOK Lighters \nOK Sealed: cigarette packages\, tampons\, packs of gum\, chapstick/lip gloss \nOK Glowing/illuminated costumes or jewelry (to be searched upon entry) \nOK Sunglasses and hats \nOK Sealed liquid sunscreen and cosmetic products \nOK Disposable E-cigs\, nicotine vaporizer pens\, excluding those with refillable chambers containing visible liquid \nOK Guide dogs for people with disabilities and other service animals \n— \nCLEAR BAG POLICY: \nIn an effort to enhance fan safety\, and to mirror many arenas and venues around the county\, we have implemented a clear bag policy for all large attendee events. \nWe define a clear bag as a fully clear or colored clear plastic\, vinyl\, or mesh bag. One-gallon clear plastic freezer bags will be considered an acceptable clear bag. The maximum bag size that will be allowed is 15” X 15”x 5“. In addition to a clear bag\, guests may bring in one small clutch up to 5” X 7”x 2” in size. \nDue to clear hydration packs not being readily available\, EMPTY hydration packs (no larger than 15x15x5” with no more than 2 pockets) WILL BE the only exception to the clear bag policy. \nPrescription Medication Policy \nAll prescription medications must be presented in a pharmacy-labeled container. The label must include the prescription details\, dosage\, and the name of the individual. \n— The name on the prescription must match a valid form of identification (e.g.\, driver’s license\, state ID). \n— Only a sufficient supply of the medication needed for the duration of the event is permitted. \n— Over-the-counter medications are allowed in a sufficient supply for one day. \n— Expired medications are strictly prohibited. \n— All medications must be verified by medical staff\, safety officers or a security supervisor prior to entering the event
URL:https://rawhide.com/event/aftershock-relentless-beats-presents-svdden-death-voyd-forsaken-sands/
LOCATION:Wild Horse Pass Festival Grounds\, 19593 S. 48th St\, Chandler\, AZ\, 85226\, United States
CATEGORIES:Concert,Special Event
ATTACH;FMTTYPE=image/jpeg:https://rawhide.com/wp-content/uploads/2025/09/552527512_829633536066809_6653574936820342129_n.jpg
END:VEVENT
END:VCALENDAR