BEGIN:VCALENDAR
VERSION:2.0
PRODID:-//Rawhide Western Town - ECPv6.15.20//NONSGML v1.0//EN
CALSCALE:GREGORIAN
METHOD:PUBLISH
X-WR-CALNAME:Rawhide Western Town
X-ORIGINAL-URL:https://rawhide.com
X-WR-CALDESC:Events for Rawhide Western Town
REFRESH-INTERVAL;VALUE=DURATION:PT1H
X-Robots-Tag:noindex
X-PUBLISHED-TTL:PT1H
BEGIN:VTIMEZONE
TZID:America/Phoenix
BEGIN:STANDARD
TZOFFSETFROM:-0700
TZOFFSETTO:-0700
TZNAME:MST
DTSTART:20240101T000000
END:STANDARD
END:VTIMEZONE
BEGIN:VEVENT
DTSTART;TZID=America/Phoenix:20250503T200000
DTEND;TZID=America/Phoenix:20250503T200000
DTSTAMP:20260421T215658
CREATED:20250115T163657Z
LAST-MODIFIED:20250115T164035Z
UID:10000080-1746302400-1746302400@rawhide.com
SUMMARY:Relentless Beats presents Zeds Dead
DESCRIPTION:Relentless Beats presents Zeds Dead on Saturday\, May 3\, 2025 at Rawhide Event Center in Chandler\, AZ. This show is 18+. \nDoors Open at 7PM\, \nShow Times : 8:00PM – 2:00 AM \nThey first hooked up in 2004 and formed Mass Productions. Influenced by the digging in the crates sampling school of hip hop\, Mass Productions released one independent album in the summer of 2007 entitled Fresh Beetz. It was their first and only release. \nIn the summer of 2009\, the two launched their second collaboration – Zeds Dead – turning up the bpm and aiming the bass-lines at the dance-floor. Soon after Zeds Dead (alongside the Killabits) founded a weekly party in Toronto called BassMentality. Guests have included Nero\, Skrillex\, 12th Planet\, Borgore\, Mary Anne Hobbs\, Plastician\, Netsky\, and many more. \nAs two of the hardest workers in electronic music\, Zeds Dead’s tireless efforts have earned them an excellent reputation amongst a new generation of producers as artists without borders – genres hold no bearing over their music as they transcend style and form with ease. By pulling from a vast array of source material (Radiohead\, The Rolling Stones\, The Moody Blues\, Sublime)\, and molding it into their unique brand of dance-floor classics\, They have established themselves as a dominant force in EDM circles and have received recognition and praise from tastemakers worldwide. With a stockpile of originals and remixes set to be released in 2011\, DC and Hooks show no signs of slowing down. \n 
URL:https://rawhide.com/event/zeds-dead-2/
LOCATION:Rawhide Event Center\, 5244 South 48th Street\, Chandler\, AZ\, 85226\, United States
CATEGORIES:Concert
ATTACH;FMTTYPE=image/webp:https://rawhide.com/wp-content/uploads/2025/01/RB_ZD-LINEUP_1080x1080.webp
END:VEVENT
END:VCALENDAR