BEGIN:VCALENDAR
VERSION:2.0
PRODID:-//Rawhide Western Town - ECPv6.15.20//NONSGML v1.0//EN
CALSCALE:GREGORIAN
METHOD:PUBLISH
X-ORIGINAL-URL:https://rawhide.com
X-WR-CALDESC:Events for Rawhide Western Town
REFRESH-INTERVAL;VALUE=DURATION:PT1H
X-Robots-Tag:noindex
X-PUBLISHED-TTL:PT1H
BEGIN:VTIMEZONE
TZID:America/Phoenix
BEGIN:STANDARD
TZOFFSETFROM:-0700
TZOFFSETTO:-0700
TZNAME:MST
DTSTART:20240101T000000
END:STANDARD
END:VTIMEZONE
BEGIN:VEVENT
DTSTART;TZID=America/Phoenix:20250329T201500
DTEND;TZID=America/Phoenix:20250329T201500
DTSTAMP:20260422T014749
CREATED:20241010T223100Z
LAST-MODIFIED:20250306T042317Z
UID:10000039-1743279300-1743279300@rawhide.com
SUMMARY:Sullivan King
DESCRIPTION:Sullivan King Saturday\, March 29\, 2025 at 8:15 PM Rawhide Event Center – Chandler\, AZ Venue Rawhide Event Center Ages 18+ \nShow 8:15 PM – 2:00 AM\nDoors 7:15 PM  \nRelentless Beats presents Sullivan King on Saturday\, March 29\, 2025 at Rawhide Event Center in Chandler\, AZ. This show is 18+. SULLIVAN KING Tickets at Rawhide Event Center in Chandler by RB – Festivals | Tixr
URL:https://rawhide.com/event/sullivan-king/
LOCATION:Rawhide Event Center\, 5244 South 48th Street\, Chandler\, AZ\, 85226\, United States
CATEGORIES:Concert
ATTACH;FMTTYPE=image/jpeg:https://rawhide.com/wp-content/uploads/2024/10/RB_SK_AZ_1080x1080.jpg
END:VEVENT
END:VCALENDAR