BEGIN:VCALENDAR
VERSION:2.0
PRODID:-//Rawhide Western Town - ECPv6.15.20//NONSGML v1.0//EN
CALSCALE:GREGORIAN
METHOD:PUBLISH
X-ORIGINAL-URL:https://rawhide.com
X-WR-CALDESC:Events for Rawhide Western Town
REFRESH-INTERVAL;VALUE=DURATION:PT1H
X-Robots-Tag:noindex
X-PUBLISHED-TTL:PT1H
BEGIN:VTIMEZONE
TZID:America/Phoenix
BEGIN:STANDARD
TZOFFSETFROM:-0700
TZOFFSETTO:-0700
TZNAME:MST
DTSTART:20240101T000000
END:STANDARD
END:VTIMEZONE
BEGIN:VEVENT
DTSTART;VALUE=DATE:20250404
DTEND;VALUE=DATE:20250406
DTSTAMP:20260421T215620
CREATED:20250306T171049Z
LAST-MODIFIED:20250403T072539Z
UID:10000086-1743724800-1743897599@rawhide.com
SUMMARY:PHXLIGHTS: Solar Sound System
DESCRIPTION:Following a symphony of planetary sounds transmitting from the far reaches of space\, all seemingly with a common destination\, it has been announced that the interstellar Relentless Beats festival\, PHXLIGHTS: Solar Sound System\, will now take place at Rawhide Event Center on April 04 and 05. Radiating heat\, the lineup for PHXLIGHTS: Solar Sound System shines bright\, headlined by the Space Mom herself\, REZZ; the return of Louis The Child to Arizona; producer and Gud Vibrations co-founder NGHTMRE\, and producer and visual artist Of the Trees. Additional Interstellar Ambassadors of the Solar Sound System include Said the Sky\, Netsky\, It’s Murph\, Kaivon\, Hybrid Minds\, J. Worra\, Zero\, Jon Casey\, Edward Joseph\, and Dark Mark. Future transmissions will be relayed with additional artists\, activations\, experiences\, and more. \nAll Two-Day ticket levels for PHXLIGHTS: Solar Sound System are on sale now. All details\, ticket types\, table reservations (strictly 21+)\, and payment plans are available online at www.phxlightsfest.com and www.relentlessbeats.com. PHXLIGHTS: Solar Sound System is an 18+ event.
URL:https://rawhide.com/event/phxlights-solar-sound-system/
LOCATION:Rawhide Event Center\, 5244 South 48th Street\, Chandler\, AZ\, 85226\, United States
CATEGORIES:Concert,Festival
ATTACH;FMTTYPE=image/jpeg:https://rawhide.com/wp-content/uploads/2025/03/250404-05-PHXLights-Square.jpg
END:VEVENT
BEGIN:VEVENT
DTSTART;TZID=America/Phoenix:20250412T120000
DTEND;TZID=America/Phoenix:20250412T220000
DTSTAMP:20260421T215620
CREATED:20250205T033600Z
LAST-MODIFIED:20250205T033600Z
UID:10000083-1744459200-1744495200@rawhide.com
SUMMARY:Punk in the Park Chandler 2025 – Arizona’s Biggest Punk Rock Bash!
DESCRIPTION:Get ready for an all-out punk rock invasion as Punk in the Park returns to Chandler\, AZ\, on April 12\, 2025\, at Wild Horse Pass Festival Grounds! Brace yourself for a high-energy lineup featuring Bad Religion\, Pennywise\, Face To Face\, Strung Out\, The Casualties\, Adolescents\, Guttermouth\, Manic Hispanic\, and many more! \n🎸 Non-stop punk rock anthems!\n🍺 Craft beer sampling (21+ from 12-3 PM)!\n🍔 Killer food trucks and vendors!\n🎟️ VIP upgrades with premium viewing\, lounge\, and perks! \nThis all-ages event is a must for punk fans—kids 5 and under get in FREE! Grab your tickets now before they sell out and join the ultimate punk rock party!
URL:https://rawhide.com/event/punk-in-the-park-chandler-2025-arizonas-biggest-punk-rock-bash/
LOCATION:Wild Horse Pass Festival Grounds\, 19593 S. 48th St\, Chandler\, AZ\, 85226\, United States
CATEGORIES:Concert,Festival
ATTACH;FMTTYPE=image/png:https://rawhide.com/wp-content/uploads/2025/02/CHANDLER-NEW-ADMAT-SQUARE.webp
END:VEVENT
BEGIN:VEVENT
DTSTART;TZID=America/Phoenix:20250412T170000
DTEND;TZID=America/Phoenix:20250412T210000
DTSTAMP:20260421T215620
CREATED:20241018T234307Z
LAST-MODIFIED:20250304T200357Z
UID:10000073-1744477200-1744491600@rawhide.com
SUMMARY:8 Second Saturday Rodeo Series
DESCRIPTION:Welcome to the Buck-N Rodeo Grounds’ 8 Second Saturday Rodeo series! This thrilling showdeo is jam packed with mutton bustin’\, calf riding\, steer riding\, and bull riding\, as well as family-friendly yard games\, inflatables\, food trucks\, bars\, giveaways\, live music\, and so much more! \n  \nNov 9\, 2024 – May 10\, 2025 at Buck-N Rodeo Grounds at Rawhide\, Chandler\, AZ \nDoors open: 5pm \nRodeo starts: 6pm – 8pm \nConcert starts: 8pm-9pm \nEnjoy live music performances by local country bands every month! \n\nMar. 8 – Chauncey Jones\n\n\nApr. 12 – Bobby Joe Bell\n\n\nMay 10 – Lacey Rashea & the Young Guns\n\nAround the event: \n\nMC/DJ Entertainment\n\n\nFun Inflatables\n\n\nYard Games\n\n\nGiveaways\n\n\nDesserts\n\n\nFull Bars\n\nhttps://tixr.com/groups/wildhorsepass/8second \nKnow someone who wants to compete in the rodeo? Please text RS RODEO @ 480-818-9635
URL:https://rawhide.com/event/8-second-saturday-rodeo-series/2025-04-12/
LOCATION:Buck – N- Rodeo Grounds\, 5244 S 48th Street\, Chandler\, AZ\, 85226\, United States
CATEGORIES:Competition,Concert
ATTACH;FMTTYPE=image/webp:https://rawhide.com/wp-content/uploads/2024/10/8seclogo.webp
END:VEVENT
END:VCALENDAR