BEGIN:VCALENDAR
VERSION:2.0
PRODID:-//Rawhide Western Town - ECPv6.15.20//NONSGML v1.0//EN
CALSCALE:GREGORIAN
METHOD:PUBLISH
X-ORIGINAL-URL:https://rawhide.com
X-WR-CALDESC:Events for Rawhide Western Town
REFRESH-INTERVAL;VALUE=DURATION:PT1H
X-Robots-Tag:noindex
X-PUBLISHED-TTL:PT1H
BEGIN:VTIMEZONE
TZID:America/Phoenix
BEGIN:STANDARD
TZOFFSETFROM:-0700
TZOFFSETTO:-0700
TZNAME:MST
DTSTART:20250101T000000
END:STANDARD
END:VTIMEZONE
BEGIN:VEVENT
DTSTART;VALUE=DATE:20260313
DTEND;VALUE=DATE:20260316
DTSTAMP:20260421T012907
CREATED:20260128T062831Z
LAST-MODIFIED:20260129T220539Z
UID:10000453-1773360000-1773619199@rawhide.com
SUMMARY:Ostrich Festival
DESCRIPTION:March 13-15 and March 20-22 \nWe’re excited to welcome the Chandler Chamber Ostrich Festival to Rawhide Event Center for the first time ever\, March 13-15 and March 20-22. \nThe Chandler Chamber of Commerce Ostrich Festival began in 1988\, based on Chandler’s colorful early history of ostrich ranching. The event has grown into one of the premier festivals in the southwest. The Chandler Chamber Ostrich Festival is a family-friendly event featuring national and regional entertainment\, carnival midway\, spectacular food\, curated vendors and of course ostriches! \nFor more information\, visit OstrichFestival.com
URL:https://rawhide.com/event/ostrich-festival/
LOCATION:Rawhide Event Center\, 5244 South 48th Street\, Chandler\, AZ\, 85226\, United States
ATTACH;FMTTYPE=image/png:https://rawhide.com/wp-content/uploads/2026/01/Ostrich-Festival-Website-Image.png
END:VEVENT
BEGIN:VEVENT
DTSTART;TZID=America/Phoenix:20260314T180000
DTEND;TZID=America/Phoenix:20260314T220000
DTSTAMP:20260421T012907
CREATED:20260218T163411Z
LAST-MODIFIED:20260218T163413Z
UID:10000120-1773511200-1773525600@rawhide.com
SUMMARY:8 Second Saturdays Rodeo
DESCRIPTION:Welcome to the Buck-N Rodeo Grounds’ 8 Second Saturday Rodeo series! This thrilling showdeo is jam packed with mutton bustin’\, calf riding\, steer riding\, and bull riding\, as well as family-friendly yard games\, inflatables\, food trucks\, bars\, giveaways\, live music\, and so much more! \nEnjoy live music performances by local country bands every month! \n\nOct 11 – Lacey Rashea & the Young Guns\nNov 8  – Shari Row\nDec 13 – Bobby Joe Bell Band\nJan 10 – Matt Farris Band\nFeb 14 – Lacey Rashea & The Young Guns\nMar 14 – To Be Announced\nApr 11 – Matt Farris Band\nMay 9 – Bobby Joe Bell Bandw\n\nAround the event: \n\nMC/DJ Entertainment\nFun Inflatables\nYard Games\nGiveaways\nDesserts\nFull Bars\n\nKnow someone who wants to compete in the rodeo? Please text RS RODEO @ 480-818-9635 \nDoors: 6pm\nRodeo Start: 7pm\nLive Band: 9pm\nEnd: 10pm
URL:https://rawhide.com/event/8-second-saturdays-rodeo-8-2/2026-03-14/
LOCATION:Buck – N – Rodeo Grounds\, 5244 S 48th St.\, Chandler\, AZ\, 85226\, United States
CATEGORIES:Signature,Sports
ATTACH;FMTTYPE=image/jpeg:https://rawhide.com/wp-content/uploads/2025/08/8_Second_Saturday.jpg
END:VEVENT
END:VCALENDAR