BEGIN:VCALENDAR
VERSION:2.0
PRODID:-//Rawhide Western Town - ECPv6.15.20//NONSGML v1.0//EN
CALSCALE:GREGORIAN
METHOD:PUBLISH
X-WR-CALNAME:Rawhide Western Town
X-ORIGINAL-URL:https://rawhide.com
X-WR-CALDESC:Events for Rawhide Western Town
REFRESH-INTERVAL;VALUE=DURATION:PT1H
X-Robots-Tag:noindex
X-PUBLISHED-TTL:PT1H
BEGIN:VTIMEZONE
TZID:America/Phoenix
BEGIN:STANDARD
TZOFFSETFROM:-0700
TZOFFSETTO:-0700
TZNAME:MST
DTSTART:20240101T000000
END:STANDARD
END:VTIMEZONE
BEGIN:VEVENT
DTSTART;TZID=America/Phoenix:20251220T070000
DTEND;TZID=America/Phoenix:20251220T140000
DTSTAMP:20260421T061903
CREATED:20251217T192214Z
LAST-MODIFIED:20251217T192214Z
UID:10000444-1766214000-1766239200@rawhide.com
SUMMARY:The Marathon Project
DESCRIPTION:A Premier Racing Experience \nFriday\, December 19th: \n\n8:00am – Course Preview Run\n11:00am – 7:00pm – TMP Expo\n1:00pm – Professional Athlete Press Conference\n2:30pm – Authors’ Roundabout and Book Signing\n4:00pm – Meet Your Pacer\n\nSaturday\, December 20th: \n\n7:15am – Gold Wave Marathon\n7:30am to 2:00pm – TMP Fan Zone\n11:00am – Gold Wave Awards Ceremony\nNoon – TMP 5k\n1:00pm – 5k Awards Ceremony\n\nSunday\, December 21st: \n\n7:15am – Professional Marathon\n7:30am to 11:00am – TMP Fan Zone\n10:30am – Professional Race Awards Ceremony\n\nWEEKEND GUIDE: 2025 Race Weekend Guide
URL:https://rawhide.com/event/the-marathon-project/2025-12-20/
LOCATION:Rawhide Event Center\, 5244 South 48th Street\, Chandler\, AZ\, 85226\, United States
CATEGORIES:Competition,Sports
ATTACH;FMTTYPE=image/jpeg:https://rawhide.com/wp-content/uploads/2025/12/marathon-project.jpg
END:VEVENT
BEGIN:VEVENT
DTSTART;TZID=America/Phoenix:20251220T173000
DTEND;TZID=America/Phoenix:20251220T220000
DTSTAMP:20260421T061903
CREATED:20251028T210729Z
LAST-MODIFIED:20251124T184956Z
UID:10000427-1766251800-1766268000@rawhide.com
SUMMARY:Pratt Brothers Christmas
DESCRIPTION:Come celebrate 10 Years of the Pratt Brothers! What began in their parents’ yard in 2015 has grown into the Biggest Christmas Celebration in Arizona\, and this season marks a full decade of holiday magic. We’re excited to welcome you to experience this milestone year with us. This magical event features over 7 million lights\, a dazzling light show\, a magical train ride\, a nightly parade\, jaw-dropping stunt shows\, holiday shopping\, live entertainment\, and so much more. \nVisit PrattBrothersChristmas.com for more information.
URL:https://rawhide.com/event/pratt-brothers-christmas-2/2025-12-20/
LOCATION:Rawhide Western Town\, 5700 W. North Loop Rd.\, Chandler\, AZ\, 85226\, United States
CATEGORIES:Holiday,Signature,Special Event
ATTACH;FMTTYPE=image/jpeg:https://rawhide.com/wp-content/uploads/2025/10/pbc.jpg
END:VEVENT
END:VCALENDAR