BEGIN:VCALENDAR
VERSION:2.0
PRODID:-//Rawhide Western Town - ECPv6.15.20//NONSGML v1.0//EN
CALSCALE:GREGORIAN
METHOD:PUBLISH
X-WR-CALNAME:Rawhide Western Town
X-ORIGINAL-URL:https://rawhide.com
X-WR-CALDESC:Events for Rawhide Western Town
REFRESH-INTERVAL;VALUE=DURATION:PT1H
X-Robots-Tag:noindex
X-PUBLISHED-TTL:PT1H
BEGIN:VTIMEZONE
TZID:America/Phoenix
BEGIN:STANDARD
TZOFFSETFROM:-0700
TZOFFSETTO:-0700
TZNAME:MST
DTSTART:20240101T000000
END:STANDARD
END:VTIMEZONE
BEGIN:VEVENT
DTSTART;TZID=America/Phoenix:20251207T100000
DTEND;TZID=America/Phoenix:20251207T150000
DTSTAMP:20260421T061902
CREATED:20251120T041244Z
LAST-MODIFIED:20251124T161459Z
UID:10000438-1765101600-1765119600@rawhide.com
SUMMARY:Vintage Market Days
DESCRIPTION:Vintage Market Days® is an upscale vintage and vintage-inspired indoor/outdoor market featuring original art\, antiques\, clothing\, jewelry\, handmade treasures\, home décor\, outdoor furnishings\, consumable yummies\, seasonal plantings and a little more. Vintage Market Days® events are so much more than a flea market. Each Vintage Market Days® event is a unique opportunity for vendors to display their talents and passions in creative venues. \nEvent Hours & Admissions\n\nFriday\, December 5\, 2025\nGeneral Admission\n10:00 am to 5:00 pm \nSaturday\, December 6\, 2025\nGeneral Admission\n10:00 am to 5:00 pm \nSunday\, December 7\, 2025\nGeneral Admission\n10:00 am to 3:00 pm \nAdmission for children under 12 is free. Cash and credit card are accepted at the gate. Once purchased\, your ticket is good for re-entry into the event all weekend.
URL:https://rawhide.com/event/vitage-markete-days/2025-12-07/
LOCATION:Rawhide Event Center\, 5244 South 48th Street\, Chandler\, AZ\, 85226\, United States
CATEGORIES:Holiday
ATTACH;FMTTYPE=image/jpeg:https://rawhide.com/wp-content/uploads/2025/11/Vintage-Market-Marketing-.jpg
END:VEVENT
BEGIN:VEVENT
DTSTART;TZID=America/Phoenix:20251207T173000
DTEND;TZID=America/Phoenix:20251207T220000
DTSTAMP:20260421T061902
CREATED:20251028T210729Z
LAST-MODIFIED:20251124T184956Z
UID:10000416-1765128600-1765144800@rawhide.com
SUMMARY:Pratt Brothers Christmas
DESCRIPTION:Come celebrate 10 Years of the Pratt Brothers! What began in their parents’ yard in 2015 has grown into the Biggest Christmas Celebration in Arizona\, and this season marks a full decade of holiday magic. We’re excited to welcome you to experience this milestone year with us. This magical event features over 7 million lights\, a dazzling light show\, a magical train ride\, a nightly parade\, jaw-dropping stunt shows\, holiday shopping\, live entertainment\, and so much more. \nVisit PrattBrothersChristmas.com for more information.
URL:https://rawhide.com/event/pratt-brothers-christmas-2/2025-12-07/
LOCATION:Rawhide Western Town\, 5700 W. North Loop Rd.\, Chandler\, AZ\, 85226\, United States
CATEGORIES:Holiday,Signature,Special Event
ATTACH;FMTTYPE=image/jpeg:https://rawhide.com/wp-content/uploads/2025/10/pbc.jpg
END:VEVENT
END:VCALENDAR