BEGIN:VCALENDAR
VERSION:2.0
PRODID:-//Rawhide Western Town - ECPv6.15.20//NONSGML v1.0//EN
CALSCALE:GREGORIAN
METHOD:PUBLISH
X-ORIGINAL-URL:https://rawhide.com
X-WR-CALDESC:Events for Rawhide Western Town
REFRESH-INTERVAL;VALUE=DURATION:PT1H
X-Robots-Tag:noindex
X-PUBLISHED-TTL:PT1H
BEGIN:VTIMEZONE
TZID:America/Phoenix
BEGIN:STANDARD
TZOFFSETFROM:-0700
TZOFFSETTO:-0700
TZNAME:MST
DTSTART:20240101T000000
END:STANDARD
END:VTIMEZONE
BEGIN:VEVENT
DTSTART;TZID=America/Phoenix:20251129T150000
DTEND;TZID=America/Phoenix:20251129T200000
DTSTAMP:20260421T071853
CREATED:20251120T040103Z
LAST-MODIFIED:20251120T040103Z
UID:10000435-1764428400-1764446400@rawhide.com
SUMMARY:CALICREAMING OUR 5TH YEAR IN ARIZONA!
DESCRIPTION:This isn’t just a car show — it’s a high-octane celebration that brings car enthusiasts and the community together for an unforgettable day of thrills\, excitement\, and nonstop action! \n Over 100 jaw-dropping show cars! \n 10+ vendors! \nThis is more than an event – it’s the ultimate celebration of automotive passion and community spirit in AZ.
URL:https://rawhide.com/event/calicreaming-our-5th-year-in-arizona/
LOCATION:Rawhide Event Center\, 5244 South 48th Street\, Chandler\, AZ\, 85226\, United States
ATTACH;FMTTYPE=image/jpeg:https://rawhide.com/wp-content/uploads/2025/11/original-BF14DD46-E363-41E8-811E-19D86312DABA.jpeg
END:VEVENT
BEGIN:VEVENT
DTSTART;TZID=America/Phoenix:20251129T173000
DTEND;TZID=America/Phoenix:20251129T220000
DTSTAMP:20260421T071853
CREATED:20251028T210729Z
LAST-MODIFIED:20251124T184956Z
UID:10000411-1764437400-1764453600@rawhide.com
SUMMARY:Pratt Brothers Christmas
DESCRIPTION:Come celebrate 10 Years of the Pratt Brothers! What began in their parents’ yard in 2015 has grown into the Biggest Christmas Celebration in Arizona\, and this season marks a full decade of holiday magic. We’re excited to welcome you to experience this milestone year with us. This magical event features over 7 million lights\, a dazzling light show\, a magical train ride\, a nightly parade\, jaw-dropping stunt shows\, holiday shopping\, live entertainment\, and so much more. \nVisit PrattBrothersChristmas.com for more information.
URL:https://rawhide.com/event/pratt-brothers-christmas-2/2025-11-29/
LOCATION:Rawhide Western Town\, 5700 W. North Loop Rd.\, Chandler\, AZ\, 85226\, United States
CATEGORIES:Holiday,Signature,Special Event
ATTACH;FMTTYPE=image/jpeg:https://rawhide.com/wp-content/uploads/2025/10/pbc.jpg
END:VEVENT
END:VCALENDAR