BEGIN:VCALENDAR
VERSION:2.0
PRODID:-//Rawhide Western Town - ECPv6.15.20//NONSGML v1.0//EN
CALSCALE:GREGORIAN
METHOD:PUBLISH
X-ORIGINAL-URL:https://rawhide.com
X-WR-CALDESC:Events for Rawhide Western Town
REFRESH-INTERVAL;VALUE=DURATION:PT1H
X-Robots-Tag:noindex
X-PUBLISHED-TTL:PT1H
BEGIN:VTIMEZONE
TZID:America/Phoenix
BEGIN:STANDARD
TZOFFSETFROM:-0700
TZOFFSETTO:-0700
TZNAME:MST
DTSTART:20240101T000000
END:STANDARD
END:VTIMEZONE
BEGIN:VEVENT
DTSTART;TZID=America/Phoenix:20250308T090000
DTEND;TZID=America/Phoenix:20250308T210000
DTSTAMP:20260421T030217
CREATED:20250115T164846Z
LAST-MODIFIED:20250115T164846Z
UID:10000081-1741424400-1741467600@rawhide.com
SUMMARY:Phoenix Wushu Nationals 2025 & Phoenix Food Fair
DESCRIPTION:Phoenix Wushu Nationals is the largest Chinese martial arts tournament in the US\, bringing thousands of athletes from all over the world to the great state of Arizona. This time\, we are sanctioned by the USAWKF and USDLDF to host the official Kung Fu Team Trials and US Lion Dance Team Trials.
URL:https://rawhide.com/event/phoenix-wushu-nationals-2025-phoenix-food-fair/2025-03-08/
LOCATION:Rawhide Event Center\, 5244 South 48th Street\, Chandler\, AZ\, 85226\, United States
CATEGORIES:Festival,Special Event
ATTACH;FMTTYPE=image/webp:https://rawhide.com/wp-content/uploads/2025/01/rawhide.webp
END:VEVENT
BEGIN:VEVENT
DTSTART;TZID=America/Phoenix:20250308T170000
DTEND;TZID=America/Phoenix:20250308T210000
DTSTAMP:20260421T030217
CREATED:20241018T234307Z
LAST-MODIFIED:20250304T200357Z
UID:10000072-1741453200-1741467600@rawhide.com
SUMMARY:8 Second Saturday Rodeo Series
DESCRIPTION:Welcome to the Buck-N Rodeo Grounds’ 8 Second Saturday Rodeo series! This thrilling showdeo is jam packed with mutton bustin’\, calf riding\, steer riding\, and bull riding\, as well as family-friendly yard games\, inflatables\, food trucks\, bars\, giveaways\, live music\, and so much more! \n  \nNov 9\, 2024 – May 10\, 2025 at Buck-N Rodeo Grounds at Rawhide\, Chandler\, AZ \nDoors open: 5pm \nRodeo starts: 6pm – 8pm \nConcert starts: 8pm-9pm \nEnjoy live music performances by local country bands every month! \n\nMar. 8 – Chauncey Jones\n\n\nApr. 12 – Bobby Joe Bell\n\n\nMay 10 – Lacey Rashea & the Young Guns\n\nAround the event: \n\nMC/DJ Entertainment\n\n\nFun Inflatables\n\n\nYard Games\n\n\nGiveaways\n\n\nDesserts\n\n\nFull Bars\n\nhttps://tixr.com/groups/wildhorsepass/8second \nKnow someone who wants to compete in the rodeo? Please text RS RODEO @ 480-818-9635
URL:https://rawhide.com/event/8-second-saturday-rodeo-series/2025-03-08/
LOCATION:Buck – N- Rodeo Grounds\, 5244 S 48th Street\, Chandler\, AZ\, 85226\, United States
CATEGORIES:Competition,Concert
ATTACH;FMTTYPE=image/webp:https://rawhide.com/wp-content/uploads/2024/10/8seclogo.webp
END:VEVENT
BEGIN:VEVENT
DTSTART;TZID=America/Phoenix:20250308T200000
DTEND;TZID=America/Phoenix:20250309T020000
DTSTAMP:20260421T030217
CREATED:20241217T191054Z
LAST-MODIFIED:20241217T191054Z
UID:10000079-1741464000-1741485600@rawhide.com
SUMMARY:Subtronics at Wild Horse Pass Festival Grounds
DESCRIPTION:A love for SUBwoofers and elecTRONICS has brought us Subtronics. Growing up in Philadelphia\, PA\, Jesse Kardon\, AKA Subtronics\, had a passion for his drum set and Radiohead. While in high school\, he discovered electronic music and became enamored with the scene. Having never heard the style before\, Jesse was inspired to jump into the world of production and learned the basics via tutorial videos. Fusing his unique blend of cutting-edge sound design with hard-hitting bass\, Subtronics seeks to push the envelope with sound engineering. On the live front\, he has built a rabid following\, with high-energy sets and advanced mixing skills. Jesse has gone on to tour globally\, amass over 100 million+ streams\, launch his very own record label Cyclops Recording and a signature clothing line\, and throw large-scale Subtronics branded events and festivals. \n2 Day event ( Doors Open at 8pm – 2am )\nThis event is 18+ \n  \nhttps://www.tixr.com/groups/rbfestivals/events/subtronics-125035 \n— \nAll items are subject to the discretion of event security. \nThe following is not allowed into the venue: \nNO Illegal substances or drug paraphernalia \nNO Cannabis \nNO Pets \nNO Massagers or pacifiers \nNO Poi \nNO Laser pens or pointers \nNO Eyedrops \nNO Glass\, cans\, cups\, or coolers \nNO Markers\, pens\, or spray paint \nNO Large chains\, spiked jewelry\, or spiked accessories \nNO Stickers or flyers \nNO Tents\, large umbrellas\, or chairs \nNO Wind chairs/sofas \nNO Large purses or bags (over 15” X 15” X 5” inches) \nNO Open cigarettes\, lipstick\, chapstick\, tampons \nNO Outside food\, beverage\, or alcohol \nNO Professional cameras (SLR or detachable lenses) \nNO Video or audio recording equipment \nNO Knives\, firearms\, pepper spray\, fireworks\, or weapons of any kind \nNO Toy weapons or real weapons of any kind \nNO Sticks\, staff\, swords\, sabers\, whips\, or scepters including extendable items \nNO Open sunscreen \nNO Balloons\, balls\, frisbees\, or any other projectile \nNO Native American headdresses \nNO Festival totems \nNO CROWD SURFING OR RAIL BREAKING. PATRONS PARTICIPATING IN EITHER WILL BE EJECTED. \nThe following is allowed into the venue: \nOK (2) factory-sealed water bottles of ANY SIZE \nOK Clear empty plastic water bottles of ANY SIZE \nOK Clear (transparent) bags – max size 15” X 15”x 5“ \nOK Clear (transparent) backpacks – max size 15” X 15”x 5“ \nOK Clear (transparent) fanny packs – max size 15” X 15”x 5“ \nOK Empty non-transparent Camelbaks with no more than 2 pockets – max size 15” X 15”x 5“ \nOK Small clutch up to 5” X 7” X 2” in size \nOK Non-Professional Still Cameras including Go Pros (GoPros may NOT be attached to a monopod or extendable pole) \nOK Lighters \nOK Sealed: cigarette packages\, tampons\, packs of gum\, chapstick/lip gloss \nOK Glowing/illuminated costumes or jewelry (to be searched upon entry) \nOK Sunglasses and hats \nOK Sealed liquid sunscreen and cosmetic products \nOK Disposable E-cigs\, nicotine vaporizer pens\, excluding those with refillable chambers containing visible liquid \nOK Guide dogs for people with disabilities and other service animals with current rabies certification \n— \nCLEAR BAG POLICY: \nIn an effort to enhance fan safety\, and to mirror many arenas and venues around the county\, we have implemented a clear bag policy for all large attendee events. \nWe define a clear bag as a fully clear or colored clear plastic\, vinyl\, or mesh bag. One-gallon clear plastic freezer bags will be considered an acceptable clear bag. The maximum bag size that will be allowed is 15” X 15”x 5“. In addition to a clear bag\, guests may bring in one small clutch up to 5” X 7”x 2” in size. \nDue to clear hydration packs not being readily available\, EMPTY hydration packs (no larger than 15x15x5” with no more than 2 pockets) WILL BE the only exception to the clear bag policy.
URL:https://rawhide.com/event/subtronics-at-wild-horse-pass-festival-grounds-2/
LOCATION:Rawhide Event Center\, 5244 South 48th Street\, Chandler\, AZ\, 85226\, United States
CATEGORIES:Concert,Special Event
ATTACH;FMTTYPE=image/webp:https://rawhide.com/wp-content/uploads/2024/12/Subtronics_CyclopsDesert-1080x1080-1.webp
END:VEVENT
END:VCALENDAR