BEGIN:VCALENDAR
VERSION:2.0
PRODID:-//Rawhide Western Town - ECPv6.15.20//NONSGML v1.0//EN
CALSCALE:GREGORIAN
METHOD:PUBLISH
X-WR-CALNAME:Rawhide Western Town
X-ORIGINAL-URL:https://rawhide.com
X-WR-CALDESC:Events for Rawhide Western Town
REFRESH-INTERVAL;VALUE=DURATION:PT1H
X-Robots-Tag:noindex
X-PUBLISHED-TTL:PT1H
BEGIN:VTIMEZONE
TZID:America/Phoenix
BEGIN:STANDARD
TZOFFSETFROM:-0700
TZOFFSETTO:-0700
TZNAME:MST
DTSTART:20230101T000000
END:STANDARD
END:VTIMEZONE
BEGIN:VEVENT
DTSTART;VALUE=DATE:20241129
DTEND;VALUE=DATE:20241230
DTSTAMP:20260421T044249
CREATED:20241001T191803Z
LAST-MODIFIED:20241021T201335Z
UID:10000036-1732838400-1735516799@rawhide.com
SUMMARY:Pratt Brothers Christmas at Rawhide
DESCRIPTION:Pratt Brothers Christmas at Rawhide is Arizona’s premier light show and family experience during the holidays. This magical experience features over 7 million lights\, a dazzling light show\, a magical train ride\, a nightly parade\, jaw-dropping stunt shows\, holiday shopping\, live entertainment\, and so much more. \nNovember 29 – December 29 \nRawhide Western Town \n5700 W North Loop Rd\, Chandler\, AZ 85226
URL:https://rawhide.com/event/pratt-brothers-christmas-at-rawhide/
LOCATION:Rawhide Western Town\, 5700 W. North Loop Rd.\, Chandler\, AZ\, 85226\, United States
CATEGORIES:Festival,Holiday
ATTACH;FMTTYPE=image/webp:https://rawhide.com/wp-content/uploads/2024/10/Pratt-Brothers-Christmas-2024-1080x1080-1.webp
END:VEVENT
END:VCALENDAR