BEGIN:VCALENDAR
VERSION:2.0
PRODID:-//Rawhide Western Town - ECPv6.15.20//NONSGML v1.0//EN
CALSCALE:GREGORIAN
METHOD:PUBLISH
X-WR-CALNAME:Rawhide Western Town
X-ORIGINAL-URL:https://rawhide.com
X-WR-CALDESC:Events for Rawhide Western Town
REFRESH-INTERVAL;VALUE=DURATION:PT1H
X-Robots-Tag:noindex
X-PUBLISHED-TTL:PT1H
BEGIN:VTIMEZONE
TZID:America/Phoenix
BEGIN:STANDARD
TZOFFSETFROM:-0700
TZOFFSETTO:-0700
TZNAME:MST
DTSTART:20230101T000000
END:STANDARD
END:VTIMEZONE
BEGIN:VEVENT
DTSTART;VALUE=DATE:20241122
DTEND;VALUE=DATE:20241124
DTSTAMP:20260421T030129
CREATED:20241010T222650Z
LAST-MODIFIED:20241010T223404Z
UID:10000038-1732233600-1732406399@rawhide.com
SUMMARY:Better Together  November 22 & 23\, 2024  Rawhide
DESCRIPTION:Relentless Beats presents Better Together on Friday\, November 22-23\, 2024 at Rawhide Festival Grounds in Chandler\, AZ. This show is 18+. Friday\, November 22 Carl Cox Disclosure (DJ Set) Neil Frances (DJ Set) Spencer Brown Tiësto WhoMadeWho (Hybrid DJ Set) Molly Otto Saturday\, November 23 Black Coffee Bonobo (DJ Set) Channel Tres (DJ Set) DJ Mandy Fisher Kaytranada DMTRI Better Together | November 22-23\, 2024
URL:https://rawhide.com/event/better-together-november-22-23-2024-rawhide/
LOCATION:Rawhide Event Center\, 5244 South 48th Street\, Chandler\, AZ\, 85226\, United States
CATEGORIES:Special Event
ATTACH;FMTTYPE=image/webp:https://rawhide.com/wp-content/uploads/2024/10/3712e93b-394c-482f-bcc5-5006506ed711.webp
END:VEVENT
END:VCALENDAR