BEGIN:VCALENDAR
VERSION:2.0
PRODID:-//Rawhide Western Town - ECPv6.15.20//NONSGML v1.0//EN
CALSCALE:GREGORIAN
METHOD:PUBLISH
X-WR-CALNAME:Rawhide Western Town
X-ORIGINAL-URL:https://rawhide.com
X-WR-CALDESC:Events for Rawhide Western Town
REFRESH-INTERVAL;VALUE=DURATION:PT1H
X-Robots-Tag:noindex
X-PUBLISHED-TTL:PT1H
BEGIN:VTIMEZONE
TZID:America/Phoenix
BEGIN:STANDARD
TZOFFSETFROM:-0700
TZOFFSETTO:-0700
TZNAME:MST
DTSTART:20230101T000000
END:STANDARD
END:VTIMEZONE
BEGIN:VEVENT
DTSTART;VALUE=DATE:20240920
DTEND;VALUE=DATE:20241103
DTSTAMP:20260421T125216
CREATED:20240829T080158Z
LAST-MODIFIED:20240829T080158Z
UID:10000031-1726790400-1730591999@rawhide.com
SUMMARY:Glowing Pumpkins: A Phoenix Jack-o-Lantern Adventure
DESCRIPTION:This Halloween\, get ready to explore a world of jack-o-lanterns with Glowing Pumpkins! Wander through a magical 1-mile trail with 5\,000+ hand-carved art pumpkins and lit sculptures of Halloween characters\, dinosaurs\, superheroes\, and pop culture icons\, all enveloped by a symphony of music\, sounds\, and special effects. This family-friendly event has something for everyone—get your tickets for Glowing Pumpkins: A Phoenix Jack-o-Lantern Adventure and prepare to make it your new annual Halloween tradition! \nGeneral Info\n Dates and times: select your date & time directly in the ticket selector\nDuration: the visit will take approx. 45-60 minutes\nLocation: The Riverwalk at Rawhide – 5700 W North Loop Rd\, Chandler\, AZ 85226\nAge requirement: all ages are welcome!\nAccessibility: the venue is ADA-compliant
URL:https://rawhide.com/event/glowing-pumpkins-a-phoenix-jack-o-lantern-adventure/
LOCATION:AZ
ATTACH;FMTTYPE=image/webp:https://rawhide.com/wp-content/uploads/2024/08/CR-GP-ACQ-SL-GenericStatic-p01-1x1-PHX-ENG_fshgnj.webp
END:VEVENT
BEGIN:VEVENT
DTSTART;TZID=America/Phoenix:20240928T190000
DTEND;TZID=America/Phoenix:20241102T213000
DTSTAMP:20260421T125216
CREATED:20240913T215828Z
LAST-MODIFIED:20240913T215828Z
UID:10000033-1727550000-1730583000@rawhide.com
SUMMARY:Zombie Apocalypse At Rawhide
DESCRIPTION:Experience Apocalypse Rawhide this fall in Phoenix’s Rawhide Western Town\, where you’ll battle the undead with the cutting-edge irSHOTGUN. Saddle up for a real-world\, gun-slingin’ adventure and see if you have what it takes to survive! \nGet your tickets today: https://feverup.com/m/199165 \n  \nHighlights\n🧟 Battle through a zombie-infested Rawhide Western Town in a heart-pounding\, live-action experience\n🔫 Arm yourself with the irSHOTGUN\, the most advanced laser tag shotgun with real rack action and simulated shell reload\n👮 Prove your skills as a Deputy Sheriff by leading your group to eliminate all threats and make it out alive \n  \nGeneral Info\n📅 Dates and times: select your date & time directly in the ticket selector\n⏳ Duration: 45 minutes\n📍 Location: Rawhide Western Town\, 5700 W North Loop\, Chandler AZ 85226\n👤 Age requirement: 13+ recommended. Children under 5 are not permitted entry\n♿ Accessibility: the venue is ADA compliant. However\, Apocalypse Rawhide takes place in a western town with dirt streets and small stairs. Please let the staff know on arrival if you might need to utilize ADA bypasses\n❓ Please consult the FAQs of this experience here \n  \nLear more at : https://apocalypserawhide.com/
URL:https://rawhide.com/event/zombie-apocalypse-at-rawhide/
LOCATION:Rawhide Western Town\, 5700 W. North Loop Rd.\, Chandler\, AZ\, 85226\, United States
CATEGORIES:Special Event
ATTACH;FMTTYPE=image/webp:https://rawhide.com/wp-content/uploads/2024/09/arizona-apocalypse-rawhide-october.webp
END:VEVENT
END:VCALENDAR