BEGIN:VCALENDAR
VERSION:2.0
PRODID:-//Rawhide Western Town - ECPv6.15.20//NONSGML v1.0//EN
CALSCALE:GREGORIAN
METHOD:PUBLISH
X-ORIGINAL-URL:https://rawhide.com
X-WR-CALDESC:Events for Rawhide Western Town
REFRESH-INTERVAL;VALUE=DURATION:PT1H
X-Robots-Tag:noindex
X-PUBLISHED-TTL:PT1H
BEGIN:VTIMEZONE
TZID:America/Phoenix
BEGIN:STANDARD
TZOFFSETFROM:-0700
TZOFFSETTO:-0700
TZNAME:MST
DTSTART:20230101T000000
END:STANDARD
END:VTIMEZONE
BEGIN:VEVENT
DTSTART;TZID=America/Phoenix:20240913T100000
DTEND;TZID=America/Phoenix:20240913T140000
DTSTAMP:20260421T081059
CREATED:20240801T063527Z
LAST-MODIFIED:20240801T063527Z
UID:10000029-1726221600-1726236000@rawhide.com
SUMMARY:Job Fair at Rawhide Western Town
DESCRIPTION:Rawhide Western Town – Banquet Room \nSEPTEMBER 13TH – 10:00AM TO 2:00PM. ALL JOB SEEKERS ARE WELCOME! \nThe Job Fair at Rawhide is an excellent opportunity to meet with potential employers and learn about open positions. We welcome you to also network with other professionals and job seekers in your desired field. Bring your resume and join us! \nQuestions? Contact GRD Human Resources at CAREERS@WILDHORSEPASS.COM
URL:https://rawhide.com/event/job-fair-at-rawhide-western-town/
LOCATION:AZ
CATEGORIES:Special Event
ATTACH;FMTTYPE=image/webp:https://rawhide.com/wp-content/uploads/2024/07/RAWHIDE-_-EVENTS-scaled.webp
END:VEVENT
END:VCALENDAR