BEGIN:VCALENDAR
VERSION:2.0
PRODID:-//Rawhide Western Town - ECPv6.15.20//NONSGML v1.0//EN
CALSCALE:GREGORIAN
METHOD:PUBLISH
X-WR-CALNAME:Rawhide Western Town
X-ORIGINAL-URL:https://rawhide.com
X-WR-CALDESC:Events for Rawhide Western Town
REFRESH-INTERVAL;VALUE=DURATION:PT1H
X-Robots-Tag:noindex
X-PUBLISHED-TTL:PT1H
BEGIN:VTIMEZONE
TZID:America/Phoenix
BEGIN:STANDARD
TZOFFSETFROM:-0700
TZOFFSETTO:-0700
TZNAME:MST
DTSTART:20240101T000000
END:STANDARD
END:VTIMEZONE
BEGIN:VEVENT
DTSTART;TZID=America/Phoenix:20251012T190000
DTEND;TZID=America/Phoenix:20251012T214000
DTSTAMP:20260422T204649
CREATED:20251012T185325Z
LAST-MODIFIED:20251012T185325Z
UID:4571-1760295600-1760305200@rawhide.com
SUMMARY:Apocalypse Rawhide - Canceled
DESCRIPTION:Weather Closure – Saturday\, October 12\nUnfortunately\, due to ongoing rain and flooding at the Rawhide venue\, Apocalypse Rawhide will be CLOSED again tonight.\n\nTicket holders will receive an email from our ticketing partner\, Fever\, with details on how to rebook your experience for another night or request a refund. Please note that all changes must be made directly with Fever — but if you encounter any issues\, CC us at info@apocalypseglobal.com and we’ll be happy to step in to help.\n\nWe’re looking forward to seeing you next weekend for an unforgettable night of zombie-slaying fun — minus the floodwaters! 
URL:https://rawhide.com/event/apocalypse-rawhide-3/
LOCATION:Rawhide Western Town\, 5700 W. North Loop Rd.\, Chandler\, AZ\, 85226\, United States
CATEGORIES:Holiday,Signature,Special Event
ATTACH;FMTTYPE=image/jpeg:https://rawhide.com/wp-content/uploads/2025/09/groupshoot_ApocRawhide25.jpg
END:VEVENT
END:VCALENDAR