BEGIN:VCALENDAR
VERSION:2.0
PRODID:-//Rawhide Western Town - ECPv6.15.20//NONSGML v1.0//EN
CALSCALE:GREGORIAN
METHOD:PUBLISH
X-WR-CALNAME:Rawhide Western Town
X-ORIGINAL-URL:https://rawhide.com
X-WR-CALDESC:Events for Rawhide Western Town
REFRESH-INTERVAL;VALUE=DURATION:PT1H
X-Robots-Tag:noindex
X-PUBLISHED-TTL:PT1H
BEGIN:VTIMEZONE
TZID:America/Phoenix
BEGIN:STANDARD
TZOFFSETFROM:-0700
TZOFFSETTO:-0700
TZNAME:MST
DTSTART:20240101T000000
END:STANDARD
END:VTIMEZONE
BEGIN:VEVENT
DTSTART;TZID=America/Phoenix:20250510T183000
DTEND;TZID=America/Phoenix:20250510T203000
DTSTAMP:20260421T013120
CREATED:20250425T041015Z
LAST-MODIFIED:20250504T021230Z
UID:3884-1746901800-1746909000@rawhide.com
SUMMARY:AI LOVE YOU - Immersive Drone Circus - CANCELLED
DESCRIPTION:Sorry\, this event has been CANCELLED.\nRefunds will be processed automatically.
URL:https://rawhide.com/event/ai-love-you-immersive-drone-circus-may-10-2025/
LOCATION:Rawhide Western Town\, 5700 W. North Loop Rd.\, Chandler\, AZ\, 85226\, United States
CATEGORIES:Special Event
ATTACH;FMTTYPE=image/jpeg:https://rawhide.com/wp-content/uploads/2025/03/AI-LOVE-YOU.jpg
END:VEVENT
END:VCALENDAR